BEGIN:VCALENDAR
VERSION:2.0
PRODID:-//NORTH EAST FIDDLE SCHOOL - ECPv6.15.0.1//NONSGML v1.0//EN
CALSCALE:GREGORIAN
METHOD:PUBLISH
X-ORIGINAL-URL:https://www.northeastfiddleschool.org.uk
X-WR-CALDESC:Events for NORTH EAST FIDDLE SCHOOL
REFRESH-INTERVAL;VALUE=DURATION:PT1H
X-Robots-Tag:noindex
X-PUBLISHED-TTL:PT1H
BEGIN:VTIMEZONE
TZID:Europe/London
BEGIN:DAYLIGHT
TZOFFSETFROM:+0000
TZOFFSETTO:+0100
TZNAME:BST
DTSTART:20230326T010000
END:DAYLIGHT
BEGIN:STANDARD
TZOFFSETFROM:+0100
TZOFFSETTO:+0000
TZNAME:GMT
DTSTART:20231029T010000
END:STANDARD
END:VTIMEZONE
BEGIN:VEVENT
DTSTART;TZID=Europe/London:20231202T100000
DTEND;TZID=Europe/London:20231202T170000
DTSTAMP:20260417T175552
CREATED:20231001T152219Z
LAST-MODIFIED:20231101T120602Z
UID:9827-1701511200-1701536400@www.northeastfiddleschool.org.uk
SUMMARY:2023 Block 6 - Saturday
DESCRIPTION:Saturday Full-day Workshop Saturday 2nd December\, 10.00 am – 5.00 pm at Shepherds Dene Retreat Centreas part of our NEFS Winter Residential Weekend 2023Cost £50 including lunch\, tea and coffee provided by the venue. \n\n\n\n\nIn-person group fiddle tuition focusing on developing fiddle technique and learning tunes.\nTunes and technique delivered by both Melissa and Stewart.\nIn-depth fiddle teaching aimed at Levels 2 and 3.\nThe day includes 3 mixed ability workshops and a tutor-guided session.\n\nDetails of all the options for the NEFS Winter Residential Weekend 2023. \nPlease email or use the contact form for with any queries. Bookings open now in the Shop.
URL:https://www.northeastfiddleschool.org.uk/event/2023-block-6-saturday/
LOCATION:Shepherds Dene Retreat Centre\, Riding Mill\, Northumberland\, NE44 6AF
CATEGORIES:NEFS Classes,NEFS Winter Residential 2023
ORGANIZER;CN="Ali Say":MAILTO:tuition@northeastfiddleschool.org.uk
END:VEVENT
END:VCALENDAR